BEGIN:VCALENDAR
VERSION:2.0
PRODID:-//Rochester Accessible Adventures - ECPv6.15.20//NONSGML v1.0//EN
CALSCALE:GREGORIAN
METHOD:PUBLISH
X-WR-CALNAME:Rochester Accessible Adventures
X-ORIGINAL-URL:https://rochesteraccessibleadventures.org
X-WR-CALDESC:Events for Rochester Accessible Adventures
REFRESH-INTERVAL;VALUE=DURATION:PT1H
X-Robots-Tag:noindex
X-PUBLISHED-TTL:PT1H
BEGIN:VTIMEZONE
TZID:America/New_York
BEGIN:DAYLIGHT
TZOFFSETFROM:-0500
TZOFFSETTO:-0400
TZNAME:EDT
DTSTART:20220313T070000
END:DAYLIGHT
BEGIN:STANDARD
TZOFFSETFROM:-0400
TZOFFSETTO:-0500
TZNAME:EST
DTSTART:20221106T060000
END:STANDARD
BEGIN:DAYLIGHT
TZOFFSETFROM:-0500
TZOFFSETTO:-0400
TZNAME:EDT
DTSTART:20230312T070000
END:DAYLIGHT
BEGIN:STANDARD
TZOFFSETFROM:-0400
TZOFFSETTO:-0500
TZNAME:EST
DTSTART:20231105T060000
END:STANDARD
BEGIN:DAYLIGHT
TZOFFSETFROM:-0500
TZOFFSETTO:-0400
TZNAME:EDT
DTSTART:20240310T070000
END:DAYLIGHT
BEGIN:STANDARD
TZOFFSETFROM:-0400
TZOFFSETTO:-0500
TZNAME:EST
DTSTART:20241103T060000
END:STANDARD
END:VTIMEZONE
BEGIN:VEVENT
DTSTART;TZID=America/New_York:20230623T160000
DTEND;TZID=America/New_York:20230623T190000
DTSTAMP:20260425T165505
CREATED:20230518T203130Z
LAST-MODIFIED:20230619T174659Z
UID:7478-1687536000-1687546800@rochesteraccessibleadventures.org
SUMMARY:Open House Extravaganza!
DESCRIPTION:Join us for an evening on the Erie Canal with our Inclusion Partner\, Erie Canal Boat Company! \nExplore options for inclusive kayaking and cycling along the Erie Canal! \nWhat to know: Erie Canal Boat Company has been working with RAA for over 8 years – instilling a culture of inclusion across their day to day operations! What this means: \n1. Adaptive and standard equipment are available 7 days a week!\n2. An adaptive kayak launch helps make entering and exiting the kayak even easier.\n3. A variety of styles of cycles are available – handcycles\, three-wheeled cycles\, tandems and more.\n4. Kayaking equipment like outriggers\, supportive seatbacks\, paddle pedestals add stability and support for more people \nThis Extravaganza event will introduce you and your family to kayaking and cycling options. You will have time to try out the cycles and take a quick paddle to see how the equipment works. We encourage family/friend groups to come together so you can LEARN together — and then come back TOGETHER throughout the summer! \nGreat for people generally ~6 years and up – equipment varies in size. While most cycles are youth-adult sizes\, we can show families other options that might work for their child. This event is designed for you to come see what is here and give it a try\, and also learn about more options! \nThis is not a ‘program’ – this is a way of inclusive business! This equipment is available daily throughout the season!\nECBC is open 7 days a week\, 10AM – 8PM during the high season! \nMany thanks to our Event Sponsor: NY Outdoors Unlimited! Meet them at the Extravaganza! \nHave questions?\nContact us: RAA@RochesterAccessibleAdventures.org\, 585-491-6011\nContact Peter\, owner\, ECBC: 585-748-2628
URL:https://rochesteraccessibleadventures.org/event/extravaganza/
LOCATION:Erie Canal Boat Company – Fairport NY\, 7 Liftbridge Lane West\, Fairport\, NY\, 14450\, United States
ATTACH;FMTTYPE=image/png:https://rochesteraccessibleadventures.org/wp-content/uploads/2023/05/Open-House-Extravaganza-2023-5.png
ORGANIZER;CN="Erie Canal Boat Company":MAILTO:raa@rochesteraccessibleadventures.org
END:VEVENT
END:VCALENDAR