BEGIN:VCALENDAR
VERSION:2.0
PRODID:-//Rochester Accessible Adventures - ECPv6.15.20//NONSGML v1.0//EN
CALSCALE:GREGORIAN
METHOD:PUBLISH
X-WR-CALNAME:Rochester Accessible Adventures
X-ORIGINAL-URL:https://rochesteraccessibleadventures.org
X-WR-CALDESC:Events for Rochester Accessible Adventures
REFRESH-INTERVAL;VALUE=DURATION:PT1H
X-Robots-Tag:noindex
X-PUBLISHED-TTL:PT1H
BEGIN:VTIMEZONE
TZID:America/New_York
BEGIN:DAYLIGHT
TZOFFSETFROM:-0500
TZOFFSETTO:-0400
TZNAME:EDT
DTSTART:20250309T070000
END:DAYLIGHT
BEGIN:STANDARD
TZOFFSETFROM:-0400
TZOFFSETTO:-0500
TZNAME:EST
DTSTART:20251102T060000
END:STANDARD
BEGIN:DAYLIGHT
TZOFFSETFROM:-0500
TZOFFSETTO:-0400
TZNAME:EDT
DTSTART:20260308T070000
END:DAYLIGHT
BEGIN:STANDARD
TZOFFSETFROM:-0400
TZOFFSETTO:-0500
TZNAME:EST
DTSTART:20261101T060000
END:STANDARD
BEGIN:DAYLIGHT
TZOFFSETFROM:-0500
TZOFFSETTO:-0400
TZNAME:EDT
DTSTART:20270314T070000
END:DAYLIGHT
BEGIN:STANDARD
TZOFFSETFROM:-0400
TZOFFSETTO:-0500
TZNAME:EST
DTSTART:20271107T060000
END:STANDARD
END:VTIMEZONE
BEGIN:VEVENT
DTSTART;TZID=America/New_York:20260726T150000
DTEND;TZID=America/New_York:20260726T170000
DTSTAMP:20260424T013015
CREATED:20260327T224304Z
LAST-MODIFIED:20260327T224304Z
UID:10328-1785078000-1785085200@rochesteraccessibleadventures.org
SUMMARY:Wheelchair Tennis & Red Ball Social!
DESCRIPTION:Wheelchair Tennis & Red Ball Social!\nThe Wheelchair Tennis & Red Ball Social is open to everyone! Beginner or experienced wheelchair athletes\, friends and family can all play together at this fun-filled event.  \nWith the USTA’s Red Ball play\, everyone gets a racquet in their hand and begins playing within minutes! The first doubles team to four games wins\, with games being only four points! Play alongside wheelchair athletes and hop in a chair to try it yourself!  \nHeld in collaboration with Perinton Recreation & Parks at Perinton Park tennis courts\, 99 O’Connor Rd\, Fairport NY 14450. Coach Avi and Coach Caroline (from Greater Buffalo Adaptive Sports) will lead the fun! \nSports chairs will be provided by RAA; Volunteers will assist during sessions. \nRegistration Required! Click here for our Registration Form.\n\nFAQs:\nWill sports chairs be provided during the Red Ball Social?\nYes. Please indicate that you will need one on the registration form. \nDo I need to already know how to play tennis?\nNo. We will all have super fun together! \nCan I sign up with a friend who doesn’t use a wheelchair?\nYes. We will have extra chairs if someone wants to try it out\, but they can also play standup during the Red Ball Social. \nIs there a fee for registration?\nNo\, wonderfully\, USTA has provided RAA with grant funding to support the costs of this event. We are grateful to be able to set this up with their support! \nWhat can I do after the clinic to keep practicing?\nGreat question! You can go ahead and sign up for Coach Avi’s summer classes through Perinton Recreation and Parks registration. They are expecting you! PR & P has a scholarship application process if financial support is needed.  You can also plan to go to your local tennis court all summer long and play with a friend or family member — you will have basic skills to keep practicing! \nDo I have to take this clinic before signing up for Tennis 101 with Coach Avi through Perinton Rec?\nNo\, you do not! You can go ahead and sign up for Coach Avi’s classes through Perinton Rec through their catalog. Spring classes on page 28 \nWhat’s a Red Ball Social and why should I attend?\nIt’s just so much fun\, and you really shouldn’t miss this opportunity for meeting new folks\, playing with your friends\, laughing\, and oh! we’ll be playing some tennis! \nHave more questions? Contact us at RAA@RochesterAccessible Adventures today!
URL:https://rochesteraccessibleadventures.org/event/wheelchair-tennis-red-ball-social/
LOCATION:Perinton Park\, 99 O'Connor Road\, Fairport\, NY\, 14450\, United States
ATTACH;FMTTYPE=image/png:https://rochesteraccessibleadventures.org/wp-content/uploads/2026/03/Wheelchair-Tennis-2026-3.png
END:VEVENT
END:VCALENDAR