BEGIN:VCALENDAR
VERSION:2.0
PRODID:-//Rochester Accessible Adventures - ECPv6.15.20//NONSGML v1.0//EN
CALSCALE:GREGORIAN
METHOD:PUBLISH
X-ORIGINAL-URL:https://rochesteraccessibleadventures.org
X-WR-CALDESC:Events for Rochester Accessible Adventures
REFRESH-INTERVAL;VALUE=DURATION:PT1H
X-Robots-Tag:noindex
X-PUBLISHED-TTL:PT1H
BEGIN:VTIMEZONE
TZID:America/New_York
BEGIN:DAYLIGHT
TZOFFSETFROM:-0500
TZOFFSETTO:-0400
TZNAME:EDT
DTSTART:20230312T070000
END:DAYLIGHT
BEGIN:STANDARD
TZOFFSETFROM:-0400
TZOFFSETTO:-0500
TZNAME:EST
DTSTART:20231105T060000
END:STANDARD
BEGIN:DAYLIGHT
TZOFFSETFROM:-0500
TZOFFSETTO:-0400
TZNAME:EDT
DTSTART:20240310T070000
END:DAYLIGHT
BEGIN:STANDARD
TZOFFSETFROM:-0400
TZOFFSETTO:-0500
TZNAME:EST
DTSTART:20241103T060000
END:STANDARD
BEGIN:DAYLIGHT
TZOFFSETFROM:-0500
TZOFFSETTO:-0400
TZNAME:EDT
DTSTART:20250309T070000
END:DAYLIGHT
BEGIN:STANDARD
TZOFFSETFROM:-0400
TZOFFSETTO:-0500
TZNAME:EST
DTSTART:20251102T060000
END:STANDARD
END:VTIMEZONE
BEGIN:VEVENT
DTSTART;TZID=America/New_York:20240324T140000
DTEND;TZID=America/New_York:20240324T160000
DTSTAMP:20260425T164836
CREATED:20240226T143131Z
LAST-MODIFIED:20240226T145914Z
UID:7894-1711288800-1711296000@rochesteraccessibleadventures.org
SUMMARY:Game 4 Thruway Classic Wheelchair Basketball
DESCRIPTION:Join us for the FINAL game of our 4-game Thruway Classic Youth Wheelchair Basketball Game! The Rochester Rockets and the Buffalo Rims will connect for our last game of the season — and YOU are invited to come cheer and support these teams as they apply the skills they’ve learned this year! \nIt’s always exciting — fearless moves\, trick shots\, and fast-paced action! This year also features a number of new players who have joined the teams — peer mentorship is the BEST! \nCome fill the stands with us! \nGraciously hosted by our friends at the Trenton & Pamela Jackson R Center\, 485 N. Clinton Ave\, Rochester NY 14605. \nDoors open: 1:30 \nGame Time: 2:00 \n 
URL:https://rochesteraccessibleadventures.org/event/game-4-thruway-classic/
LOCATION:Trenton & Pamela Jackson R Center\, 485 N Clinton\, Rochester\, NY\, 14605\, United States
ATTACH;FMTTYPE=image/png:https://rochesteraccessibleadventures.org/wp-content/uploads/2024/02/Rockets-Wheelchair-Basketball-2023-24-3.png
END:VEVENT
END:VCALENDAR